BEGIN:VCALENDAR
VERSION:2.0
PRODID:-//Eise Gaart - ECPv5.2.1.1//NONSGML v1.0//EN
CALSCALE:GREGORIAN
METHOD:PUBLISH
X-WR-CALNAME:Eise Gaart
X-ORIGINAL-URL:https://eisegaart.cell.lu
X-WR-CALDESC:évènements pour Eise Gaart
BEGIN:VTIMEZONE
TZID:UTC
BEGIN:STANDARD
TZOFFSETFROM:+0000
TZOFFSETTO:+0000
TZNAME:UTC
DTSTART:20190101T000000
END:STANDARD
END:VTIMEZONE
BEGIN:VEVENT
DTSTART;TZID=UTC:20191207T140000
DTEND;TZID=UTC:20191207T170000
DTSTAMP:20201210T054125
CREATED:20190512T191009Z
LAST-MODIFIED:20190512T191009Z
UID:3948-1575727200-1575738000@eisegaart.cell.lu
SUMMARY:Cycle de formation pour jardiniers - Planification des cultures
DESCRIPTION:
URL:https://eisegaart.cell.lu/event/planification-des-cultures/
LOCATION:Lieu à déterminer\, Luxembourg
ATTACH;FMTTYPE=image/jpeg:https://eisegaart.cell.lu/wp-content/uploads/sites/2/2019/02/Flyer-formationjardiniers2019.jpg
ORGANIZER;CN="CELL":MAILTO:karine@cell.lu
END:VEVENT
END:VCALENDAR