BEGIN:VCALENDAR
VERSION:2.0
PRODID:-//Eise Gaart - ECPv5.2.1.1//NONSGML v1.0//EN
CALSCALE:GREGORIAN
METHOD:PUBLISH
X-WR-CALNAME:Eise Gaart
X-ORIGINAL-URL:https://eisegaart.cell.lu
X-WR-CALDESC:évènements pour Eise Gaart
BEGIN:VTIMEZONE
TZID:UTC
BEGIN:STANDARD
TZOFFSETFROM:+0000
TZOFFSETTO:+0000
TZNAME:UTC
DTSTART:20190101T000000
END:STANDARD
END:VTIMEZONE
BEGIN:VEVENT
DTSTART;TZID=UTC:20191123T093000
DTEND;TZID=UTC:20191123T170000
DTSTAMP:20201210T054243
CREATED:20190512T190031Z
LAST-MODIFIED:20190512T190031Z
UID:3929-1574501400-1574528400@eisegaart.cell.lu
SUMMARY:Cycle de formation pour jardiniers - La taille des arbres (théorie et pratique )
DESCRIPTION:
URL:https://eisegaart.cell.lu/event/la-taille-des-arbres/
LOCATION:Beckerich un der Attert\, Beckerich\, Luxembourg
ATTACH;FMTTYPE=image/jpeg:https://eisegaart.cell.lu/wp-content/uploads/sites/2/2019/02/Flyer-formationjardiniers2019.jpg
ORGANIZER;CN="CELL":MAILTO:karine@cell.lu
END:VEVENT
END:VCALENDAR