BEGIN:VCALENDAR
VERSION:2.0
PRODID:-//Eise Gaart - ECPv5.2.1.1//NONSGML v1.0//EN
CALSCALE:GREGORIAN
METHOD:PUBLISH
X-WR-CALNAME:Eise Gaart
X-ORIGINAL-URL:https://eisegaart.cell.lu
X-WR-CALDESC:évènements pour Eise Gaart
BEGIN:VTIMEZONE
TZID:UTC
BEGIN:STANDARD
TZOFFSETFROM:+0000
TZOFFSETTO:+0000
TZNAME:UTC
DTSTART:20190101T000000
END:STANDARD
END:VTIMEZONE
BEGIN:VEVENT
DTSTART;VALUE=DATE:20190503
DTEND;VALUE=DATE:20190504
DTSTAMP:20201210T051720
CREATED:20190110T153454Z
LAST-MODIFIED:20190110T153454Z
UID:3727-1556841600-1556927999@eisegaart.cell.lu
SUMMARY:Vente de plants et de semences légumières certifiés biologique au LTA
DESCRIPTION:Dans le cadre de la Porte ouverte Lycée Agricole Ettelbruck
URL:https://eisegaart.cell.lu/event/vente-de-plants-et-de-semences-legumieres-certifies-biologique-au-lta/
LOCATION:Lycée Technique Agricole Ettelbruck\, 72\, av. Salentiny\, Ettelbruck\, 9080
ORGANIZER;CN="SEED":MAILTO:info@seed-net.lu
END:VEVENT
END:VCALENDAR