BEGIN:VCALENDAR
VERSION:2.0
PRODID:-//Eise Gaart - ECPv5.2.1.1//NONSGML v1.0//EN
CALSCALE:GREGORIAN
METHOD:PUBLISH
X-WR-CALNAME:Eise Gaart
X-ORIGINAL-URL:https://eisegaart.cell.lu
X-WR-CALDESC:évènements pour Eise Gaart
BEGIN:VTIMEZONE
TZID:UTC
BEGIN:STANDARD
TZOFFSETFROM:+0000
TZOFFSETTO:+0000
TZNAME:UTC
DTSTART:20190101T000000
END:STANDARD
END:VTIMEZONE
BEGIN:VEVENT
DTSTART;TZID=UTC:20190119T160000
DTEND;TZID=UTC:20190119T190000
DTSTAMP:20201210T053622
CREATED:20190110T151114Z
LAST-MODIFIED:20190110T151114Z
UID:3718-1547913600-1547924400@eisegaart.cell.lu
SUMMARY:‘Sowing the seeds’
DESCRIPTION:– Rétrospective et perspectives sur les activités de SEED\n– Petit rituel et ensachage de graines dans un cadre convivial
URL:https://eisegaart.cell.lu/event/sowing-the-seeds/
LOCATION:CITIM\, 55 Avenue de la Liberté\,\, Luxembourg\, 1931\, Luxembourg
ORGANIZER;CN="SEED":MAILTO:info@seed-net.lu
END:VEVENT
END:VCALENDAR