BEGIN:VCALENDAR
VERSION:2.0
PRODID:-//Eise Gaart - ECPv5.2.1.1//NONSGML v1.0//EN
CALSCALE:GREGORIAN
METHOD:PUBLISH
X-WR-CALNAME:Eise Gaart
X-ORIGINAL-URL:https://eisegaart.cell.lu
X-WR-CALDESC:évènements pour Eise Gaart
BEGIN:VTIMEZONE
TZID:UTC
BEGIN:STANDARD
TZOFFSETFROM:+0000
TZOFFSETTO:+0000
TZNAME:UTC
DTSTART:20180101T000000
END:STANDARD
END:VTIMEZONE
BEGIN:VEVENT
DTSTART;TZID=UTC:20181201T150000
DTEND;TZID=UTC:20181201T210000
DTSTAMP:20201210T053536
CREATED:20181024T135057Z
LAST-MODIFIED:20181024T135057Z
UID:3550-1543676400-1543698000@eisegaart.cell.lu
SUMMARY:Forum de clôture JOS - projet de recherche participative sur les jardins communautaires
DESCRIPTION:Ce projet a été mené de novembre 2017 à novembre 2018 avec 14 jardins partagés du Luxembourg. \nPROGRAMME\n15h30 – 17h30. Restitution des premiers résultats de la recherche (protocole et enquête de Marie-Gérard) suivie de questions\nPAUSE\n17h45- 19h.  Forum échange de pratiques\n19h – 20h.  Analyse sensorielle des haricots nains cultivés à Roedgen\n20h30- 21h30.  Apéritif dinatoire
URL:https://eisegaart.cell.lu/event/forum-de-cloture-jos-projet-de-recherche-participative-sur-les-jardins-communautaires/
LOCATION:Altrimenti\, Luxembourg\, Luxembourg
ORGANIZER;CN="CELL":MAILTO:karine@cell.lu
END:VEVENT
END:VCALENDAR