BEGIN:VCALENDAR
VERSION:2.0
PRODID:-//Eise Gaart - ECPv5.2.1.1//NONSGML v1.0//EN
CALSCALE:GREGORIAN
METHOD:PUBLISH
X-WR-CALNAME:Eise Gaart
X-ORIGINAL-URL:https://eisegaart.cell.lu
X-WR-CALDESC:évènements pour Eise Gaart
BEGIN:VTIMEZONE
TZID:UTC
BEGIN:STANDARD
TZOFFSETFROM:+0000
TZOFFSETTO:+0000
TZNAME:UTC
DTSTART:20190101T000000
END:STANDARD
END:VTIMEZONE
BEGIN:VEVENT
DTSTART;TZID=UTC:20190302T140000
DTEND;TZID=UTC:20190302T173000
DTSTAMP:20201210T045652
CREATED:20190204T133931Z
LAST-MODIFIED:20190204T133931Z
UID:3765-1551535200-1551547800@eisegaart.cell.lu
SUMMARY:FORMATION DE PERMACULTURE APPLIQUEE AU JARDINAGE
DESCRIPTION:SAMEDI  2 mars 2019  La formation débutera à 14h jusqu’à 17h30\n                                au  CITIM  55 Avenue de la Liberté\, 1931 Luxembourg\nDans cette formation vous apprendrez des méthodes de jardinage simples et économes qui vous aiderons\n•à créer votre sol et l’entretenir\,\n•à semer\, planter et récolter\n•tout sur le compost et les apports\n•comment économiser l’arrosage et l’eau\n•comment lutter contre les nuisibles\n•Et surtout comment réduire votre travail\nLa participation financière sera laissée à votre appréciation.\nSi vous avez l’intention d’y assister\, envoyez un mail à l’adresse annemariedidier@hotmail.com
URL:https://eisegaart.cell.lu/event/formation-de-permaculture-appliquee-au-jardinage/
LOCATION:CITIM\, 55 Avenue de la Liberté\,\, Luxembourg\, 1931\, Luxembourg
ATTACH;FMTTYPE=image/jpeg:https://eisegaart.cell.lu/wp-content/uploads/sites/2/2019/02/street_art_november_6_umbrellas-in-tree.jpg
ORGANIZER;CN="Anne%20Marie%20Didier":MAILTO:annemariedidier@hotmail.com
END:VEVENT
END:VCALENDAR