BEGIN:VCALENDAR
VERSION:2.0
PRODID:-//Eise Gaart - ECPv5.2.1.1//NONSGML v1.0//EN
CALSCALE:GREGORIAN
METHOD:PUBLISH
X-WR-CALNAME:Eise Gaart
X-ORIGINAL-URL:https://eisegaart.cell.lu
X-WR-CALDESC:évènements pour Eise Gaart
BEGIN:VTIMEZONE
TZID:Europe/Paris
BEGIN:DAYLIGHT
TZOFFSETFROM:+0100
TZOFFSETTO:+0200
TZNAME:CEST
DTSTART:20190331T010000
END:DAYLIGHT
BEGIN:STANDARD
TZOFFSETFROM:+0200
TZOFFSETTO:+0100
TZNAME:CET
DTSTART:20191027T010000
END:STANDARD
END:VTIMEZONE
BEGIN:VEVENT
DTSTART;TZID=Europe/Paris:20190316T093000
DTEND;TZID=Europe/Paris:20190316T133000
DTSTAMP:20201210T045755
CREATED:20190308T094455Z
LAST-MODIFIED:20190308T094455Z
UID:3852-1552728600-1552743000@eisegaart.cell.lu
SUMMARY:Cours sol-climat. Tout comprendre sur le fonctionnement d'un sol et sur le cycle carbone
DESCRIPTION:Cours à Steinsel de 9h30 à 13h \nDans le cadre d’un cycle de formation appelé « La protection du climat à travers la protection des sols » – initié par le Oekozenter Pfaffenthal pour les communes de l’alliance pour le climat Luxembourg (Klima-bündnis Lëtzebuerg)\, ce cours s’adresse aux citoyens\, jardiniers communautaires\, personnes privées intéressées… \na. Le cycle du Carbone\nLa consommation excessive d’énergies fossiles a augmenté la concentration de dioxyde de carbone dans l’atmosphère et déréglé notre climat. Dans cet atelier nous allons analyser le dérèglement du cycle naturel du carbone sur terre et découvrir quel est le lien entre le sol et le climat. Nous allons réfléchir à des stratégies protectrices des sols et du climat en jardinant. \nb. Le sol\nSaviez-vous qu’un hectare de sol héberge autant d’organismes vivants que le poids de deux vaches et qu’il filtre un million de litres d’eau de la nappe phréatique? Les participants apprennent comment fonctionne un sol et comprennent pourquoi les êtres vivants dans le sol sont indispensables pour garantir sa fertilité.  \nPour les inscriptions\, merci de contacter : diane.labidi@steinsel.lu
URL:https://eisegaart.cell.lu/event/cours-sol-climat-tout-comprendre-sur-le-fonctionnement-dun-sol-et-sur-le-cycle-carbone/
LOCATION:Steinsel\, Luxembourg
ATTACH;FMTTYPE=image/jpeg:https://eisegaart.cell.lu/wp-content/uploads/sites/2/2019/03/2018-11-17-15.17.48.jpg
ORGANIZER;CN="CELL":MAILTO:karine@cell.lu
END:VEVENT
END:VCALENDAR