BEGIN:VCALENDAR
VERSION:2.0
PRODID:-//Eise Gaart - ECPv5.2.1.1//NONSGML v1.0//EN
CALSCALE:GREGORIAN
METHOD:PUBLISH
X-WR-CALNAME:Eise Gaart
X-ORIGINAL-URL:https://eisegaart.cell.lu
X-WR-CALDESC:évènements pour Eise Gaart
BEGIN:VTIMEZONE
TZID:UTC
BEGIN:STANDARD
TZOFFSETFROM:+0000
TZOFFSETTO:+0000
TZNAME:UTC
DTSTART:20190101T000000
END:STANDARD
END:VTIMEZONE
BEGIN:VEVENT
DTSTART;TZID=UTC:20190504T100000
DTEND;TZID=UTC:20190504T180000
DTSTAMP:20201210T051724
CREATED:20190110T153745Z
LAST-MODIFIED:20190110T153745Z
UID:3728-1556964000-1556992800@eisegaart.cell.lu
SUMMARY:Bourse aux plantes organisée par CELL
DESCRIPTION:Vente de plants et de semences légumières certifiés biologique
URL:https://eisegaart.cell.lu/event/bourse-aux-plantes-organisee-par-cell/
LOCATION:Colabor Bertrange\, 1A\, Grevelsbarrière\, Bertrange\, 8059\, Luxembourg
ORGANIZER;CN="CELL":MAILTO:karine@cell.lu
END:VEVENT
END:VCALENDAR