BEGIN:VCALENDAR
VERSION:2.0
PRODID:-//Eise Gaart - ECPv5.2.1.1//NONSGML v1.0//EN
CALSCALE:GREGORIAN
METHOD:PUBLISH
X-WR-CALNAME:Eise Gaart
X-ORIGINAL-URL:https://eisegaart.cell.lu/en/
X-WR-CALDESC:Events for Eise Gaart
BEGIN:VTIMEZONE
TZID:UTC
BEGIN:STANDARD
TZOFFSETFROM:+0000
TZOFFSETTO:+0000
TZNAME:UTC
DTSTART:20190101T000000
END:STANDARD
END:VTIMEZONE
BEGIN:VEVENT
DTSTART;TZID=UTC:20190601T140000
DTEND;TZID=UTC:20190601T170000
DTSTAMP:20201210T052241
CREATED:20190512T174125Z
LAST-MODIFIED:20190512T192241Z
UID:3864-1559397600-1559408400@eisegaart.cell.lu
SUMMARY:Training cycle for farmers - Wild herbs and their use
DESCRIPTION:
URL:https://eisegaart.cell.lu/en/event/wild-herbs-and-their-use/
LOCATION:Jardin communautaire de Hobscheid\, Luxembourg
ATTACH;FMTTYPE=image/jpeg:https://eisegaart.cell.lu/wp-content/uploads/sites/2/2019/02/Flyer-formationjardiniers2019.jpg
ORGANIZER;CN="CELL":MAILTO:karine@cell.lu
END:VEVENT
END:VCALENDAR