BEGIN:VCALENDAR
VERSION:2.0
PRODID:-//Eise Gaart - ECPv5.2.1.1//NONSGML v1.0//EN
CALSCALE:GREGORIAN
METHOD:PUBLISH
X-WR-CALNAME:Eise Gaart
X-ORIGINAL-URL:https://eisegaart.cell.lu/en/
X-WR-CALDESC:Events for Eise Gaart
BEGIN:VTIMEZONE
TZID:UTC
BEGIN:STANDARD
TZOFFSETFROM:+0000
TZOFFSETTO:+0000
TZNAME:UTC
DTSTART:20190101T000000
END:STANDARD
END:VTIMEZONE
BEGIN:VEVENT
DTSTART;TZID=UTC:20190914T110000
DTEND;TZID=UTC:20190914T160000
DTSTAMP:20201210T045108
CREATED:20190110T161736Z
LAST-MODIFIED:20190110T161736Z
UID:3761-1568458800-1568476800@eisegaart.cell.lu
SUMMARY:Technical High School Seed Day at LTA
DESCRIPTION:Presentation on the global situation of seeds as a food base – Workshop: harvesting and cleaning vegetable seeds
URL:https://eisegaart.cell.lu/en/event/technical-high-school-seed-day-at-lta/
LOCATION:Lycée Technique Agricole Ettelbruck\, 72\, av. Salentiny\, Ettelbruck\, 9080
ORGANIZER;CN="SEED":MAILTO:info@seed-net.lu
END:VEVENT
END:VCALENDAR