BEGIN:VCALENDAR
VERSION:2.0
PRODID:-//Eise Gaart - ECPv5.2.1.1//NONSGML v1.0//EN
CALSCALE:GREGORIAN
METHOD:PUBLISH
X-WR-CALNAME:Eise Gaart
X-ORIGINAL-URL:https://eisegaart.cell.lu/en/
X-WR-CALDESC:Events for Eise Gaart
BEGIN:VTIMEZONE
TZID:UTC
BEGIN:STANDARD
TZOFFSETFROM:+0000
TZOFFSETTO:+0000
TZNAME:UTC
DTSTART:20190101T000000
END:STANDARD
END:VTIMEZONE
BEGIN:VEVENT
DTSTART;TZID=UTC:20190608T140000
DTEND;TZID=UTC:20190608T170000
DTSTAMP:20201210T045056
CREATED:20190512T175439Z
LAST-MODIFIED:20190512T175615Z
UID:3874-1560002400-1560013200@eisegaart.cell.lu
SUMMARY:Training cycle for farmers - Slurries: how to do and use them
DESCRIPTION:
URL:https://eisegaart.cell.lu/en/event/slurries-how-to-do-and-use-them/
LOCATION:Hareler Gaart\, Harlange\, Luxembourg
ATTACH;FMTTYPE=image/jpeg:https://eisegaart.cell.lu/wp-content/uploads/sites/2/2019/02/Flyer-formationjardiniers2019.jpg
ORGANIZER;CN="CELL":MAILTO:karine@cell.lu
END:VEVENT
END:VCALENDAR