BEGIN:VCALENDAR
VERSION:2.0
PRODID:-//Eise Gaart - ECPv5.2.1.1//NONSGML v1.0//EN
CALSCALE:GREGORIAN
METHOD:PUBLISH
X-WR-CALNAME:Eise Gaart
X-ORIGINAL-URL:https://eisegaart.cell.lu/en/
X-WR-CALDESC:Events for Eise Gaart
BEGIN:VTIMEZONE
TZID:UTC
BEGIN:STANDARD
TZOFFSETFROM:+0000
TZOFFSETTO:+0000
TZNAME:UTC
DTSTART:20190101T000000
END:STANDARD
END:VTIMEZONE
BEGIN:VEVENT
DTSTART;TZID=UTC:20190220T070000
DTEND;TZID=UTC:20190220T070000
DTSTAMP:20201210T052200
CREATED:20190110T160323Z
LAST-MODIFIED:20190110T160323Z
UID:3745-1550646000-1550646000@eisegaart.cell.lu
SUMMARY:Screening of the film 'Whites' (fr.)
DESCRIPTION:Film directed by Harold Vasselin on the traditional and modern modes of wheat selection.
URL:https://eisegaart.cell.lu/en/event/screening-of-the-film-whites-fr/
LOCATION:CITIM\, 55 Avenue de la Liberté\,\, Luxembourg\, 1931\, Luxembourg
ORGANIZER;CN="SEED":MAILTO:info@seed-net.lu
END:VEVENT
END:VCALENDAR