BEGIN:VCALENDAR
VERSION:2.0
PRODID:-//Eise Gaart - ECPv5.2.1.1//NONSGML v1.0//EN
CALSCALE:GREGORIAN
METHOD:PUBLISH
X-WR-CALNAME:Eise Gaart
X-ORIGINAL-URL:https://eisegaart.cell.lu/en/
X-WR-CALDESC:Events for Eise Gaart
BEGIN:VTIMEZONE
TZID:UTC
BEGIN:STANDARD
TZOFFSETFROM:+0000
TZOFFSETTO:+0000
TZNAME:UTC
DTSTART:20190101T000000
END:STANDARD
END:VTIMEZONE
BEGIN:VEVENT
DTSTART;TZID=UTC:20190706T090000
DTEND;TZID=UTC:20190706T170000
DTSTAMP:20201210T045103
CREATED:20190512T181141Z
LAST-MODIFIED:20190512T181231Z
UID:3895-1562403600-1562432400@eisegaart.cell.lu
SUMMARY:Training cycle for farmers - Autonomie énergétique : Installation photovoltaique et/ ou séchoir solaire au jardin (Partie 1)
DESCRIPTION:
URL:https://eisegaart.cell.lu/en/event/installation-photovoltaique/
LOCATION:Jardin du Breedewee\, Esch-sur-Alzette\, Luxembourg
ATTACH;FMTTYPE=image/jpeg:https://eisegaart.cell.lu/wp-content/uploads/sites/2/2019/02/Flyer-formationjardiniers2019.jpg
ORGANIZER;CN="CELL":MAILTO:karine@cell.lu
END:VEVENT
END:VCALENDAR