BEGIN:VCALENDAR
VERSION:2.0
PRODID:-//Eise Gaart - ECPv5.2.1.1//NONSGML v1.0//EN
CALSCALE:GREGORIAN
METHOD:PUBLISH
X-WR-CALNAME:Eise Gaart
X-ORIGINAL-URL:https://eisegaart.cell.lu/en/
X-WR-CALDESC:Events for Eise Gaart
BEGIN:VTIMEZONE
TZID:UTC
BEGIN:STANDARD
TZOFFSETFROM:+0000
TZOFFSETTO:+0000
TZNAME:UTC
DTSTART:20190101T000000
END:STANDARD
END:VTIMEZONE
BEGIN:VEVENT
DTSTART;TZID=UTC:20190301T090000
DTEND;TZID=UTC:20190301T173000
DTSTAMP:20201210T052202
CREATED:20190110T160724Z
LAST-MODIFIED:20190110T160724Z
UID:3749-1551430800-1551461400@eisegaart.cell.lu
SUMMARY:"Day of the cultivated biodiversity" (fr.)
DESCRIPTION:around the themes of the seed legislation and of the seed multiplication of traditional varieties\, organized by the RMRM interregional seed network.
URL:https://eisegaart.cell.lu/en/event/day-of-the-cultivated-biodiversity-fr/
LOCATION:Lycée Agricole Courcelles-Chaussy (Metz)\, Metz\, France
ORGANIZER;CN="SEED":MAILTO:info@seed-net.lu
END:VEVENT
END:VCALENDAR