BEGIN:VCALENDAR
VERSION:2.0
PRODID:-//Eise Gaart - ECPv4.9.14//NONSGML v1.0//EN
CALSCALE:GREGORIAN
METHOD:PUBLISH
X-WR-CALNAME:Eise Gaart
X-ORIGINAL-URL:https://eisegaart.cell.lu/de/
X-WR-CALDESC:Veranstaltungen für Eise Gaart
BEGIN:VTIMEZONE
TZID:UTC
BEGIN:STANDARD
TZOFFSETFROM:+0000
TZOFFSETTO:+0000
TZNAME:UTC
DTSTART:20190101T000000
END:STANDARD
END:VTIMEZONE
BEGIN:VEVENT
DTSTART;TZID=UTC:20191130T000000
DTEND;TZID=UTC:20191130T000000
DTSTAMP:20200126T201725
CREATED:20190512T190452Z
LAST-MODIFIED:20190512T190804Z
UID:3941-1575072000-1575072000@eisegaart.cell.lu
SUMMARY:Weiterbildung für Gärtner - Offene Session für Ihre Fragen
DESCRIPTION:
URL:https://eisegaart.cell.lu/de/event/offene-session-fuer-ihre-fragen/
LOCATION:CITIM\, 55 Avenue de la Liberté\,\, Luxembourg\, 1931\, Luxembourg
ATTACH;FMTTYPE=image/jpeg:https://eisegaart.cell.lu/wp-content/uploads/sites/2/2019/02/Flyer-formationjardiniers2019.jpg
ORGANIZER;CN="CELL":MAILTO:karine@cell.lu
END:VEVENT
END:VCALENDAR