BEGIN:VCALENDAR
VERSION:2.0
PRODID:-//Eise Gaart - ECPv5.1.5//NONSGML v1.0//EN
CALSCALE:GREGORIAN
METHOD:PUBLISH
X-WR-CALNAME:Eise Gaart
X-ORIGINAL-URL:https://eisegaart.cell.lu/de/
X-WR-CALDESC:Veranstaltungen für Eise Gaart
BEGIN:VTIMEZONE
TZID:UTC
BEGIN:STANDARD
TZOFFSETFROM:+0000
TZOFFSETTO:+0000
TZNAME:UTC
DTSTART:20190101T000000
END:STANDARD
END:VTIMEZONE
BEGIN:VEVENT
DTSTART;TZID=UTC:20190301T090000
DTEND;TZID=UTC:20190301T173000
DTSTAMP:20200817T072212
CREATED:20190110T160529Z
LAST-MODIFIED:20190110T160757Z
UID:3747-1551430800-1551461400@eisegaart.cell.lu
SUMMARY:„Journée de la biodiversité cultivée“ (fr.)
DESCRIPTION:u.a. zu den Themen Saatgutgesetzgebung und Saatgutvermehrung bei traditionellen Sorten\, organisiert vom überregionalen Saatgutnetzwerk RMRM. \n
URL:https://eisegaart.cell.lu/de/event/journee-de-la-biodiversite-cultivee-fr/
LOCATION:Lycée Agricole Courcelles-Chaussy (Metz)\, Metz\, France
ORGANIZER;CN="SEED":MAILTO:info@seed-net.lu
END:VEVENT
END:VCALENDAR