BEGIN:VCALENDAR
VERSION:2.0
PRODID:-//Eise Gaart - ECPv5.2.1.1//NONSGML v1.0//EN
CALSCALE:GREGORIAN
METHOD:PUBLISH
X-WR-CALNAME:Eise Gaart
X-ORIGINAL-URL:https://eisegaart.cell.lu/de/
X-WR-CALDESC:Veranstaltungen für Eise Gaart
BEGIN:VTIMEZONE
TZID:UTC
BEGIN:STANDARD
TZOFFSETFROM:+0000
TZOFFSETTO:+0000
TZNAME:UTC
DTSTART:20190101T000000
END:STANDARD
END:VTIMEZONE
BEGIN:VEVENT
DTSTART;TZID=UTC:20190130T190000
DTEND;TZID=UTC:20190130T190000
DTSTAMP:20201210T053659
CREATED:20190205T152011Z
LAST-MODIFIED:20190205T160228Z
UID:3803-1548874800-1548874800@eisegaart.cell.lu
SUMMARY:Weiterbildungszyklus - Konferenz
DESCRIPTION:
URL:https://eisegaart.cell.lu/de/event/weiterbildungszyklus/
LOCATION:Mierscher Lieshaus\, 55\, rue Grande-Duchesse Charlotte\, Mersch\, 7520\, Luxembourg
ATTACH;FMTTYPE=image/jpeg:https://eisegaart.cell.lu/wp-content/uploads/sites/2/2019/02/Flyer-formationjardiniers2019.jpg
ORGANIZER;CN="CELL":MAILTO:karine@cell.lu
END:VEVENT
END:VCALENDAR