BEGIN:VCALENDAR
VERSION:2.0
PRODID:-//Eise Gaart - ECPv5.2.1.1//NONSGML v1.0//EN
CALSCALE:GREGORIAN
METHOD:PUBLISH
X-WR-CALNAME:Eise Gaart
X-ORIGINAL-URL:https://eisegaart.cell.lu/de/
X-WR-CALDESC:Veranstaltungen für Eise Gaart
BEGIN:VTIMEZONE
TZID:UTC
BEGIN:STANDARD
TZOFFSETFROM:+0000
TZOFFSETTO:+0000
TZNAME:UTC
DTSTART:20190101T000000
END:STANDARD
END:VTIMEZONE
BEGIN:VEVENT
DTSTART;VALUE=DATE:20190503
DTEND;VALUE=DATE:20190504
DTSTAMP:20201210T052345
CREATED:20190110T161016Z
LAST-MODIFIED:20190110T161016Z
UID:3751-1556841600-1556927999@eisegaart.cell.lu
SUMMARY:Verkauf von biologisch-zertifierten Jungpflanzen und Gemüse-Saatgut
DESCRIPTION:Tag der offenen Tür des LTA
URL:https://eisegaart.cell.lu/de/event/verkauf-von-biologisch-zertifierten-jungpflanzen-und-gemuese-saatgut/
LOCATION:Lycée Technique Agricole Ettelbruck\, 72\, av. Salentiny\, Ettelbruck\, 9080
ORGANIZER;CN="SEED":MAILTO:info@seed-net.lu
END:VEVENT
END:VCALENDAR