BEGIN:VCALENDAR
VERSION:2.0
PRODID:-//Eise Gaart - ECPv5.2.1.1//NONSGML v1.0//EN
CALSCALE:GREGORIAN
METHOD:PUBLISH
X-WR-CALNAME:Eise Gaart
X-ORIGINAL-URL:https://eisegaart.cell.lu/de/
X-WR-CALDESC:Veranstaltungen für Eise Gaart
BEGIN:VTIMEZONE
TZID:UTC
BEGIN:STANDARD
TZOFFSETFROM:+0000
TZOFFSETTO:+0000
TZNAME:UTC
DTSTART:20190101T000000
END:STANDARD
END:VTIMEZONE
BEGIN:VEVENT
DTSTART;TZID=UTC:20190130T190000
DTEND;TZID=UTC:20190130T190000
DTSTAMP:20201210T053656
CREATED:20190110T155554Z
LAST-MODIFIED:20190110T155610Z
UID:3738-1548874800-1548874800@eisegaart.cell.lu
SUMMARY:Theorie und Praxis der Saatgutkultur bei Gemüsepflanzen (dt.)
DESCRIPTION:Vortrag von Frank Adams über Theorie und Praxis der Saatgutkultur bei Gemüsepflanzen (dt.)
URL:https://eisegaart.cell.lu/de/event/theorie-und-praxis-der-saatgutkultur-bei-gemuesepflanzen-dt/
LOCATION:Mierscher Lieshaus\, 55\, rue Grande-Duchesse Charlotte\, Mersch\, 7520\, Luxembourg
ORGANIZER;CN="SEED":MAILTO:info@seed-net.lu
END:VEVENT
END:VCALENDAR