BEGIN:VCALENDAR
VERSION:2.0
PRODID:-//Eise Gaart - ECPv5.2.1.1//NONSGML v1.0//EN
CALSCALE:GREGORIAN
METHOD:PUBLISH
X-WR-CALNAME:Eise Gaart
X-ORIGINAL-URL:https://eisegaart.cell.lu/de/
X-WR-CALDESC:Veranstaltungen für Eise Gaart
BEGIN:VTIMEZONE
TZID:UTC
BEGIN:STANDARD
TZOFFSETFROM:+0000
TZOFFSETTO:+0000
TZNAME:UTC
DTSTART:20190101T000000
END:STANDARD
END:VTIMEZONE
BEGIN:VEVENT
DTSTART;TZID=UTC:20190914T110000
DTEND;TZID=UTC:20190914T160000
DTSTAMP:20201210T045138
CREATED:20190110T161608Z
LAST-MODIFIED:20190110T161608Z
UID:3759-1568458800-1568476800@eisegaart.cell.lu
SUMMARY:Saatguttag LTA
DESCRIPTION:– Vortrag über die globale Situationdes Saatguts als Nahrungsgrundlage \n– Workshop: Ernte und Reinigung von Gemüsesaatgut
URL:https://eisegaart.cell.lu/de/event/saatguttag-lta/
LOCATION:Lycée Technique Agricole Ettelbruck\, 72\, av. Salentiny\, Ettelbruck\, 9080
ORGANIZER;CN="SEED":MAILTO:info@seed-net.lu
END:VEVENT
END:VCALENDAR